BEGIN:VCALENDAR
PRODID:-//AT Content Types//AT Event//EN
VERSION:2.0
METHOD:PUBLISH
BEGIN:VEVENT
DTSTAMP:20260423T163102Z
CREATED:20221213T121107Z
UID:ATEvent-f210d82df3524feea902279ae54752ba
LAST-MODIFIED:20221219T120022Z
SUMMARY:Drop in session @ The Network Hub
DTSTART:20230111T160000Z
DTEND:20230111T180000Z
DESCRIPTION:The Network Hub\n 292a Kensal Road\, W10 5BE
CLASS:PUBLIC
END:VEVENT
END:VCALENDAR
