BEGIN:VCALENDAR
PRODID:-//AT Content Types//AT Event//EN
VERSION:2.0
METHOD:PUBLISH
BEGIN:VEVENT
DTSTAMP:20260423T163103Z
CREATED:20221213T121107Z
UID:ATEvent-ebf8cf1836cd463d97b38e92ff603e24
LAST-MODIFIED:20221219T120022Z
SUMMARY:Drop in session @ Blantyre Office
DTSTART:20230118T160000Z
DTEND:20230118T180000Z
DESCRIPTION:Blantyre Office\nBlantyre Street\, SW10 0DS
CLASS:PUBLIC
END:VEVENT
END:VCALENDAR
