BEGIN:VCALENDAR
PRODID:-//AT Content Types//AT Event//EN
VERSION:2.0
METHOD:PUBLISH
BEGIN:VEVENT
DTSTAMP:20260423T163037Z
CREATED:20221206T155009Z
UID:ATEvent-68bfb9cfdab145108a0f55a9ca958013
LAST-MODIFIED:20221219T120022Z
SUMMARY:Drop in session @ KTH
DTSTART:20230104T160000Z
DTEND:20230104T180000Z
DESCRIPTION:Kensington Town Hall\nCommittee room 2- entry via Civic Ce
 ntre Entrance\nHornton Street\, W8 7NX
CLASS:PUBLIC
END:VEVENT
END:VCALENDAR
